***dset /data/clima/LAPS/geog/albedo_ncep/A90S000E 
***dset /data/clima/LAPS/geog/albedo_ncep/A90S180W 
dset cly0020.gdat 
*indset /home/slavko/nmme5/mount/grads/input_grib 
undef 100 
title avn model 
xdef   641 linear  -26.  0.025 
ydef   321 linear    63.  0.025 
tdef 1 linear 00Z15jan2011 01Mo 
zdef 1 levels 1000 
vars 6 
cly   0  31,1,0      cly 
sfun  0  32,1,0      sfun 
hgt   0  33,1,0      hgt 
ugs   0  34,1,0      ugs 
ugsp  0  35,1,0      ugsp 
zino  0  36,1,0      zino 
endvars