dset /clima/oper/nmme5ANA/mount/grads/hgt.gdat
*indset /clima/oper/nmme5ANA/mount/grads/input_grib
undef 9.999e+20
title avn model
*xdef 401 linear -25.0 0.125
*ydef 321 linear 0.0 0.125
xdef 681 linear -25.0 0.125
ydef 341 linear -5.0 0.125
tdef 1 linear 00Z02feb2002 03hr
zdef 1 levels 1000
vars 16
hgt 0 341,001,0 x
sm 0 342,001,0 x
txt 0 541,001,0 x
modi 0 542,001,0 x
t2m 0 11,105,2 x
dmsk 0 345,1,0 x
alb 0 346,1,0 x
gf 0 347,1,0 x
z0 0 348,1,0 x
tg 0 349,1,0 x
slt 0 642,001,0 x
cly 0 643,001,0 x
ncly 0 111,001,0 x
nslt 0 112,001,0 x
tcly 0 1111,001,0 x
tslt 0 1112,001,0 x
endvars
